BEGIN:VCALENDAR
VERSION:2.0
PRODID:-//YMCA Nederland//NL
BEGIN:VEVENT
UID:69e8929d0a57f@https://ymca.nl
DTSTAMP:20260422T091925Z
DTSTART;TZID=Europe/Amsterdam:20260612T120000
DTEND;TZID=Europe/Amsterdam:20260614T143000
SUMMARY:Y Camps Kick-offweekend
DESCRIPTION:
Y Camps Kick-off weekend



Van 12– 14 juni vindt het Y Camps Kick-offweekend weer plaats. Tijdens dit weekend verzamelen Y Camps kampleiding én andere YMCAers om het zomerkampseizoen te vieren! vOok is het natuurlijk heel gezellig. De locatie wordt nader bekend gemaakt. Wil je meer weten over het Y Camps kick-offweekend? Houd de website dan goed in de gaten! Als je je aanmeld als kampbegeleider ontvang je automatisch bericht over dit weekend én de inschrijving. Kijk voor meer informatie op: Y Camps | Ieder kind op vakantie – Y Camps





URL:https://ymca.nl/agenda/y-camps-kick-offweekend-2-2/
END:VEVENT
END:VCALENDAR
